BEGIN:VCALENDAR
VERSION:2.0
PRODID:-//Alcoholics Anonymous Aotearoa/New Zealand - ECPv6.15.18//NONSGML v1.0//EN
CALSCALE:GREGORIAN
METHOD:PUBLISH
X-ORIGINAL-URL:https://aa.org.nz
X-WR-CALDESC:Events for Alcoholics Anonymous Aotearoa/New Zealand
REFRESH-INTERVAL;VALUE=DURATION:PT1H
X-Robots-Tag:noindex
X-PUBLISHED-TTL:PT1H
BEGIN:VTIMEZONE
TZID:Pacific/Auckland
BEGIN:STANDARD
TZOFFSETFROM:+1300
TZOFFSETTO:+1200
TZNAME:NZST
DTSTART:20250405T140000
END:STANDARD
BEGIN:DAYLIGHT
TZOFFSETFROM:+1200
TZOFFSETTO:+1300
TZNAME:NZDT
DTSTART:20250927T140000
END:DAYLIGHT
BEGIN:STANDARD
TZOFFSETFROM:+1300
TZOFFSETTO:+1200
TZNAME:NZST
DTSTART:20260404T140000
END:STANDARD
BEGIN:DAYLIGHT
TZOFFSETFROM:+1200
TZOFFSETTO:+1300
TZNAME:NZDT
DTSTART:20260926T140000
END:DAYLIGHT
BEGIN:STANDARD
TZOFFSETFROM:+1300
TZOFFSETTO:+1200
TZNAME:NZST
DTSTART:20270403T140000
END:STANDARD
BEGIN:DAYLIGHT
TZOFFSETFROM:+1200
TZOFFSETTO:+1300
TZNAME:NZDT
DTSTART:20270925T140000
END:DAYLIGHT
BEGIN:STANDARD
TZOFFSETFROM:+1300
TZOFFSETTO:+1200
TZNAME:NZST
DTSTART:20280401T140000
END:STANDARD
BEGIN:DAYLIGHT
TZOFFSETFROM:+1200
TZOFFSETTO:+1300
TZNAME:NZDT
DTSTART:20280923T140000
END:DAYLIGHT
END:VTIMEZONE
BEGIN:VEVENT
DTSTART;TZID=Pacific/Auckland:20260501T080000
DTEND;TZID=Pacific/Auckland:20260504T120000
DTSTAMP:20260420T223616
CREATED:20250903T005105Z
LAST-MODIFIED:20250903T005151Z
UID:1661741-1777622400-1777896000@aa.org.nz
SUMMARY:Australian National Annual AA Convention
DESCRIPTION:Join us for the 60th Australian National Convention of Alcoholics Anonymous with Al-Anon & Alateen participation. \n  \nVenue:  \nW Marriott Hotel Gold Coast Queensland Australia \nDate:  \nFriday 1 May – Monday 4 May 2026 \n  \nDownload the flyer – here \n  \nContacts: \nEmail –  infonatcon2026@aa.org.au \nOr visit aanatcon2026.com.au \nFacebook – facebook.com/groups/aanatcon26
URL:https://aa.org.nz/event/australian-national-annual-aa-convention/
LOCATION:JW Marriott Gold Coast Resort & Spa\, 158 Ferny Ave\, Surfers Paradise\, Queensland\, 4217\, Australia
END:VEVENT
BEGIN:VEVENT
DTSTART;TZID=Pacific/Auckland:20260509T130000
DTEND;TZID=Pacific/Auckland:20260509T170000
DTSTAMP:20260420T223616
CREATED:20260227T022552Z
LAST-MODIFIED:20260227T022552Z
UID:1804747-1778331600-1778346000@aa.org.nz
SUMMARY:Steps Workshop - with Katie P
DESCRIPTION:Saturday\, May 9th\n1pm – 5pm\nSt Marks Church\, 95 Remuera Road\, Remuera\, Auckland\n  \nFor more info download the flyer here \n  \nFor event details and tickets: \n  \nVisit – www.nzrally.org \n  \nPh – Cat 021 779517
URL:https://aa.org.nz/event/steps-workshop-with-katie-p/
LOCATION:St Marks Church\, 95 Remuera road\, Remuera\, Aucland\, 1050\, New Zealand
END:VEVENT
BEGIN:VEVENT
DTSTART;TZID=Pacific/Auckland:20260626T173000
DTEND;TZID=Pacific/Auckland:20260628T230000
DTSTAMP:20260420T223616
CREATED:20260325T050807Z
LAST-MODIFIED:20260416T000314Z
UID:1820436-1782495000-1782687600@aa.org.nz
SUMMARY:236th Southern Area Assembly
DESCRIPTION:Alcoholics Anonymous Southern Area Assembly with AL-Anon Participation\n  \nBlenheim\, Marlborough\, NZ \n26 – 28 JUNE 2026 \n  \nDownload the flyer – here \n  \n  \nRegistration ($35) to be paid into the Host Planning Committee Account:\nAccount Name: SOUTHERN AREA ASSEMBLY OF ALCOHOLICS ANONYMOUS\nAccount Number: 02 0944 0034048 00 \n  \n  \nFor more information contact: \nMarlboroughSAA2026@gmail.com
URL:https://aa.org.nz/event/236th-southern-area-assembly/
LOCATION:Connect Church Blenheim\, 8 Beaver Road\, Blenheim\, Marlborough\, 7201
END:VEVENT
BEGIN:VEVENT
DTSTART;TZID=Pacific/Auckland:20260704T080000
DTEND;TZID=Pacific/Auckland:20260704T170000
DTSTAMP:20260420T223616
CREATED:20260218T045750Z
LAST-MODIFIED:20260415T023643Z
UID:1796201-1783152000-1783184400@aa.org.nz
SUMMARY:Central Area Assembly AGM
DESCRIPTION:Saturday 4th July 2026 \n  \nDownload the flyer – here \n  \nTheme: Unity In Action\n  \nVenue:\nAll Saints’ Anglican Church\, 338 Church Street\, Palmerston North \n  \nContact:\n Kathrynne S. \nPh – 021 111 0267 \nEmail – kaths2026@yahoo.com \n  \nCynthia C.  \nPh – 06 354 7100 \nEmail – cynthia@trains.net.nz \n  \nRegistration:\n  \nRegistration $25 – covers lunch and light refreshments throughout the day \nFor those wishing to pay electronically in advance: \nBNZ  \nAccount name – Mid Central Intergroup \nAccount number – 02-0632-0088127-000 \nRef – AGM First name and initial of last name
URL:https://aa.org.nz/event/central-area-assembly-agm/
LOCATION:All Saints’ Anglican Church\, 338 Church Street\, Palmerston North\, Manawatu\, New Zealand
END:VEVENT
BEGIN:VEVENT
DTSTART;TZID=Pacific/Auckland:20260730T100000
DTEND;TZID=Pacific/Auckland:20260802T140000
DTSTAMP:20260420T223616
CREATED:20260318T032859Z
LAST-MODIFIED:20260318T032859Z
UID:1806174-1785405600-1785679200@aa.org.nz
SUMMARY:Samoan AA Outreach Roundup
DESCRIPTION:Apia\, Samoa\n  \n3 locations over the 4 days. All are close to Apia township \nVenues TBC \n  \nDownload the flyer – here \n  \nOur Outreach programme starts at 10am Thursday 30th with a Samoan Language hybrid meeting\, and continues for the rest of that day after a community luncheon. Friday to Sunday programmes are mornings only\, finishing on Sunday with a traditional Samoan Sunday lunch. \n  \nThursday July 30th to Sunday August 2nd \n  \nContact – samoaroundup@gmail.com
URL:https://aa.org.nz/event/samoan-aa-outreach-roundup/
LOCATION:New Plymouth
END:VEVENT
BEGIN:VEVENT
DTSTART;TZID=Pacific/Auckland:20270115T170000
DTEND;TZID=Pacific/Auckland:20270117T170000
DTSTAMP:20260420T223616
CREATED:20260420T091917Z
LAST-MODIFIED:20260420T091917Z
UID:1837521-1800032400-1800205200@aa.org.nz
SUMMARY:2027 National Convention - will not proceed
DESCRIPTION:The AA Board and Conference would like to advise members that the 2027 National Convention\, planned for January 2027 in Wellington\, will not proceed.\n\nThe Board is very mindful that National Conventions are an important part of AA life in Aotearoa New Zealand. They provide an opportunity for fellowship\, connection\, and service\, and are something many members look forward to. The decision not to proceed in 2027 was therefore not taken lightly.\n\nUltimately\, the Board carries the legal and financial responsibility for National Conventions. In reaching this decision\, the Board and Conference considered factors including delivery readiness\, financial exposure\, venue suitability\, and wider economic conditions that may affect attendance and risk. On balance\, we unanimously agreed that proceeding with a 2027 Convention may place AA at undue risk.\n\nWe also want to acknowledge and thank the members who volunteered their time toward planning the proposed Convention. Their service is sincerely appreciated.\n\nYours in service\,\nThe AA Board and AA Conference
URL:https://aa.org.nz/event/2027-national-convention-will-not-proceed/
LOCATION:New Plymouth
END:VEVENT
END:VCALENDAR